BEGIN:VCALENDAR
VERSION:2.0
PRODID:-//youreventpics.de//NONSGML kigkonsult.se iCalcreator 2.30.10//
CALSCALE:GREGORIAN
METHOD:PUBLISH
UID:2c5ec87a-264a-41d8-a39b-1de289746aea
X-WR-CALNAME:iCagenda
X-WR-CALDESC:Event Management Extension for Joomla!
X-WR-RELCALID:3E26604A-50F4-4449-8B3E-E4F4932D05B5
X-WR-TIMEZONE:UTC
BEGIN:VTIMEZONE
TZID:UTC
END:VTIMEZONE
BEGIN:VEVENT
UID:32311cbc-0b71-47da-a0c8-80f44b1d227b
DTSTAMP:20260424T063345Z
CATEGORIES:Circus\, Zirkus
CLASS:PUBLIC
DESCRIPTION;ALTREP="CID:<FFFF__=0ABBE548DFE235B58f9e8a93d@coffeebean.com>":
 \n&nbsp\;\n
DTSTART:20250102T160000Z
DTEND:20250102T200000Z
GEO:+48.208279;+11.325027
LOCATION:Circus Diabolo\,Volksfestplatz\, 82140 Olching
ORGANIZER:
SEQUENCE:1
SUMMARY:Olching - Volksfestplatz - 4. Olchinger Winter-Circus
TRANSP:OPAQUE
URL:https://www.youreventpics.de/component/icagenda/100-olching-volksfestpl
 atz-4-olchinger-winter-circus-3/2025-01-02-16-00
END:VEVENT
END:VCALENDAR
