BEGIN:VCALENDAR
VERSION:2.0
PRODID:-//youreventpics.de//NONSGML kigkonsult.se iCalcreator 2.30.10//
CALSCALE:GREGORIAN
METHOD:PUBLISH
UID:beb91017-c902-4c94-a938-59da6c986151
X-WR-CALNAME:iCagenda
X-WR-CALDESC:Event Management Extension for Joomla!
X-WR-RELCALID:3E26604A-50F4-4449-8B3E-E4F4932D05B5
X-WR-TIMEZONE:UTC
BEGIN:VTIMEZONE
TZID:UTC
END:VTIMEZONE
BEGIN:VEVENT
UID:f1c575d8-cdb8-4a2e-bcff-917b680b414c
DTSTAMP:20260424T072234Z
CATEGORIES:Konzerte und Festivals
CLASS:PUBLIC
DESCRIPTION;ALTREP="CID:<FFFF__=0ABBE548DFE235B58f9e8a93d@coffeebean.com>":
 DONDON\nWEIT/WEG TOUR 2024 - DONDON live in deiner Stadt\nNach der Lost Ch
 apter's Tour im vergangenen Jahr mit Rrotzer geht es 2024 auf DONDON'serst
 e Solo Tour! Über DONDON Der Kölner DONDON hat sich als Do-It-Yourself-Kün
 stlereinen Namen gemacht. Mit 18 Jahren brachte er sich das Produzieren be
 i und wirkte bereitsein Jahr später an den ersten Nummer-1-Alben mit. Er f
 okussierte sich zunehmend auf seineeigene Musik\, welche schnell Anklang f
 and.In einem dunklen Kellerzimmer\, erschafft DONDON Ohrwurm Melodien mit 
 einemQualitätsstandard\, der ihm häufig selbst über den Kopf wächst.\n&nbs
 p\;\nBild- und Textquelle:&nbsp\;https://backstage.eu/dondon-live-2024.htm
 l
DTSTART:20241213T190000Z
DTEND:20241213T230000Z
GEO:+48.144955;+11.521965
LOCATION:Backstage\, Reitknechtstraße 6\, 80639 München
ORGANIZER:
SEQUENCE:1
SUMMARY:MÜNCHEN - BACKSTAGE HALLE - DONDON - LIVE 2024
TRANSP:OPAQUE
URL:https://www.youreventpics.de/component/icagenda/102-muenchen-backstage-
 halle-dondon-live-2024/2024-12-13-19-00
END:VEVENT
END:VCALENDAR
